Workbook

Sheet 請求書様式 
J1: =IFERROR((VLOOKUP('請求書様式 '!N9,リスト!$A$3:$B$4,2,0)),"")
A2: ２０２６年度 定期予防接種委託料請求書 | N2: 本日は | O2: =TODAY() -> 46290 | P2: です
I3: =O2 -> 46290 | N3: ←請求書の作成日は、提出日または投函日でお願いします。
B5: (あて先） | C5: =O5 -> 須坂市長 | H5: 医療機関所在地 | N5: 請求先は | O5: 須坂市長 | P5: あて
H6: 医療機関名
H7: 登録番号 (インボイス制度参加事業者)
B8: ="定期予防接種委託料（ "&O11&" 月分）として下記のとおり請求します" -> 定期予防接種委託料（ 月分）として下記のとおり請求します | H8: 代表者名 | N8: （長野県）予防接種相互乗り入れ事業の実施医療機関ですか
O9: ←〇 or ×
B10: 請求金額(合計金額) | D10: =K39+K60 -> 0 | H10: 振込金融機関 | I10: 銀行 支店
H11: 口座番号 | I11: （普通・当座） | N11: 接種 | P11: 月分の請求です
B12: （内訳）10％対象額（税込金額） | E12: =D10 -> 0 | H12: （ﾌ ﾘ ｶ ﾞﾅ）
C13: 内消費税 | E13: =O19 -> 0 | H13: 口座名義
B15: (内 訳)
B16: 接種したワクチン | E16: 人数(人) | F16: 委託料単価(円) | J16: １人につき | K16: 請求額 （人数×単価）
F17: 手技料 | H17: ワクチン代 | I17: 消費税(10%) | N17: 👈請求内訳：
B18: 五種混合 (DPT-IPV-Hib) | C18: ゴービック | F18: 2873 | H18: 14667 | I18: 1754 | J18: =SUM(F18:I18) -> 19294 | K18: =SUMPRODUCT(F18:I18)*E18 -> 0 | M18: =IF(K18=J18*E18,"","×") | N18: 税込金額 | O18: =D10 -> 0
C19: クイントバック | F19: 2873 | H19: 14713 | I19: 1758 | J19: =SUM(F19:I19) -> 19344 | K19: =SUMPRODUCT(F19:I19)*E19 -> 0 | M19: =IF(K19=J19*E19,"","×") | N19: 内消費税額 | O19: =リスト!D1 -> 0
B20: 三種混合(DPT) | F20: 2873 | H20: 4850 | I20: 772 | J20: =SUM(F20:I20) -> 8495 | K20: =SUMPRODUCT(F20:I20)*E20 -> 0 | M20: =IF(K20=J20*E20,"","×")
B21: 二種混合(DT) | F21: 2873 | H21: 2450 | I21: 532 | J21: =SUM(F21:I21) -> 5855 | K21: =SUMPRODUCT(F21:I21)*E21 -> 0 | M21: =IF(K21=J21*E21,"","×")
B22: 麻しん・風しん混合（MR） | F22: 2873 | H22: 5960 | I22: 883 | J22: =SUM(F22:I22) -> 9716 | K22: =SUMPRODUCT(F22:I22)*E22 -> 0 | M22: =IF(K22=J22*E22,"","×") | N22: 人数を入力してください。金額は自動計算されます
B23: 麻しん | F23: 2873 | H23: 2693 | I23: 556 | J23: =SUM(F23:I23) -> 6122 | K23: =SUMPRODUCT(F23:I23)*E23 -> 0 | M23: =IF(K23=J23*E23,"","×") | N23: 2人であれば、２を入力。単位（人）は不要（自動入力）です。
B24: 風しん | F24: 2873 | H24: 2680 | I24: 555 | J24: =SUM(F24:I24) -> 6108 | K24: =SUMPRODUCT(F24:I24)*E24 -> 0 | M24: =IF(K24=J24*E24,"","×")
B25: 日本脳炎 | F25: 2873 | H25: 3292 | I25: 616 | J25: =SUM(F25:I25) -> 6781 | K25: =SUMPRODUCT(F25:I25)*E25 -> 0 | M25: =IF(K25=J25*E25,"","×")
B26: BCG | F26: 2873 | H26: 6720 | I26: 959 | J26: =SUM(F26:I26) -> 10552 | K26: =SUMPRODUCT(F26:I26)*E26 -> 0 | M26: =IF(K26=J26*E26,"","×")
B27: 不活化ポリオ | F27: 2873 | H27: 5542 | I27: 841 | J27: =SUM(F27:I27) -> 9256 | K27: =SUMPRODUCT(F27:I27)*E27 -> 0 | M27: =IF(K27=J27*E27,"","×")
B28: 子宮頸がん（シルガード9） | F28: 2873 | H28: 23058 | I28: 2593 | J28: =SUM(F28:I28) -> 28524 | K28: =SUMPRODUCT(F28:I28)*E28 -> 0 | M28: =IF(K28=J28*E28,"","×")
B29: ヒブ（インフルエンザ菌ｂ型） | F29: 2873 | H29: 4502 | I29: 737 | J29: =SUM(F29:I29) -> 8112 | K29: =SUMPRODUCT(F29:I29)*E29 -> 0 | M29: =IF(K29=J29*E29,"","×")
B30: 小児用肺炎球菌 | F30: 2873 | H30: 7200 | I30: 1007 | J30: =SUM(F30:I30) -> 11080 | K30: =SUMPRODUCT(F30:I30)*E30 -> 0 | M30: =IF(K30=J30*E30,"","×")
B31: 水痘 | F31: 2873 | H31: 4583 | I31: 745 | J31: =SUM(F31:I31) -> 8201 | K31: =SUMPRODUCT(F31:I31)*E31 -> 0 | M31: =IF(K31=J31*E31,"","×")
B32: B型肝炎（ヘプタバックス） | F32: 2873 | H32: 2135 | I32: 500 | J32: =SUM(F32:I32) -> 5508 | K32: =SUMPRODUCT(F32:I32)*E32 -> 0 | M32: =IF(K32=J32*E32,"","×")
B33: B型肝炎 （ビームゲン） | C33: （0.25mlバイアル） | F33: 2873 | H33: 2016 | I33: 488 | J33: =SUM(F33:I33) -> 5377 | K33: =SUMPRODUCT(F33:I33)*E33 -> 0 | M33: =IF(K33=J33*E33,"","×")
C34: （0.5mlバイアル） | F34: 2873 | H34: 2242 | I34: 511 | J34: =SUM(F34:I34) -> 5626 | K34: =SUMPRODUCT(F34:I34)*E34 -> 0 | M34: =IF(K34=J34*E34,"","×")
B35: ロタウイルス | C35: 1価（ロタリックス） | F35: 2873 | H35: 9700 | I35: 1257 | J35: =SUM(F35:I35) -> 13830 | K35: =SUMPRODUCT(F35:I35)*E35 -> 0 | M35: =IF(K35=J35*E35,"","×")
C36: 5価（ロタテック） | F36: 2873 | H36: 5192 | I36: 806 | J36: =SUM(F36:I36) -> 8871 | K36: =SUMPRODUCT(F36:I36)*E36 -> 0 | M36: =IF(K36=J36*E36,"","×")
B37: ＲＳウイルス | F37: 2873 | H37: 23900 | I37: 2677 | J37: =SUM(F37:I37) -> 29450 | K37: =SUMPRODUCT(F37:I37)*E37 -> 0 | M37: =IF(K37=J37*E37,"","×")
B38: 接種不可能者(予診のみ) | F38: 2300 | I38: 230 | J38: =SUM(F38:I38) -> 2530 | K38: =SUMPRODUCT(F38:I38)*E38 -> 0 | M38: =IF(K38=J38*E38,"","×")
B39: 請 求 額 | K39: =SUM(K18:K38) -> 0
B41: 接種したワクチン | E41: 人数(人) | F41: 委託料単価又は請求単価(円) | J41: １人につき | K41: 請求額 （人数×単価）
F42: 手技料 | H42: ワクチン代 | I42: 消費税（10％）
B43: 高齢者 インフルエンザ | C43: 標準量 | D43: 自己負担有 | F43: 0 | H43: 2947 | I43: 295 | J43: 3242 | K43: =SUMPRODUCT(F43:I43)*E43 -> 0 | M43: =IF(K43=J43*E43,"","×")
...

Sheet リスト
D1: =SUM(D3:D72) -> 0
D2: 消費税合計
A3: 〇 | B3: （予防接種相互乗入れ） | D3: ='請求書様式 '!E18*'請求書様式 '!I18 -> 0
A4: × | D4: ='請求書様式 '!E19*'請求書様式 '!I19 -> 0
D5: ='請求書様式 '!E20*'請求書様式 '!I20 -> 0
D6: ='請求書様式 '!E21*'請求書様式 '!I21 -> 0
D7: ='請求書様式 '!E22*'請求書様式 '!I22 -> 0
D8: ='請求書様式 '!E23*'請求書様式 '!I23 -> 0
D9: ='請求書様式 '!E24*'請求書様式 '!I24 -> 0
D10: ='請求書様式 '!E25*'請求書様式 '!I25 -> 0
D11: ='請求書様式 '!E26*'請求書様式 '!I26 -> 0
D12: ='請求書様式 '!E27*'請求書様式 '!I27 -> 0
D13: ='請求書様式 '!E28*'請求書様式 '!I28 -> 0
D14: ='請求書様式 '!E29*'請求書様式 '!I29 -> 0
D15: ='請求書様式 '!E30*'請求書様式 '!I30 -> 0
D16: ='請求書様式 '!E31*'請求書様式 '!I31 -> 0
... D60: ='請求書様式 '!E75*'請求書様式 '!I75 -> 0
